BEGIN:VCALENDAR
VERSION:2.0
PRODID:spatie/icalendar-generator
DESCRIPTION:Veranstaltungen von Landesverband Hessen | dieBasis
X-WR-CALDESC:Veranstaltungen von Landesverband Hessen | dieBasis
REFRESH-INTERVAL;VALUE=DURATION:PT1440M
X-PUBLISHED-TTL:PT1440M
BEGIN:VTIMEZONE
TZID:Europe/Berlin
BEGIN:STANDARD
DTSTART:20251026T030000Z
TZOFFSETFROM:+0200
TZOFFSETTO:+0100
END:STANDARD
BEGIN:DAYLIGHT
DTSTART:20260329T020000Z
TZOFFSETFROM:+0100
TZOFFSETTO:+0200
END:DAYLIGHT
BEGIN:STANDARD
DTSTART:20261025T030000Z
TZOFFSETFROM:+0200
TZOFFSETTO:+0100
END:STANDARD
END:VTIMEZONE
BEGIN:VTIMEZONE
TZID:UTC
BEGIN:STANDARD
DTSTART:20250727T111011Z
TZOFFSETFROM:+0000
TZOFFSETTO:+0000
END:STANDARD
END:VTIMEZONE
BEGIN:VEVENT
UID:431-91
DTSTAMP:20260423T111011Z
SUMMARY:Sommerfest\, dieBasis Rheinland-Pfalz
LOCATION:Boppard-Windhausen
ORGANIZER;CN=dieBasisHe:MAILTO:it@diebasis-he.de
DTSTART;TZID=Europe/Berlin:20260530T140000
DTEND;TZID=Europe/Berlin:20260531T000000
X-ALT-DESC;FMTTYPE=TEXT/HTML:&amp;nbsp\; Anmeldung über Anmeldung@dieBasis-RP.
 de
CATEGORIES:Feste
URL;VALUE=URI:https://diebasis-he.de/mc-events/sommerfest-diebasis-rheinlan
 d-pfalz-2/
METHOD:PUBLISH
END:VEVENT
END:VCALENDAR