BEGIN:VCALENDAR
VERSION:2.0
PRODID:spatie/icalendar-generator
DESCRIPTION:Veranstaltungen von Landesverband Hessen | dieBasis
X-WR-CALDESC:Veranstaltungen von Landesverband Hessen | dieBasis
REFRESH-INTERVAL;VALUE=DURATION:PT1440M
X-PUBLISHED-TTL:PT1440M
BEGIN:VTIMEZONE
TZID:Europe/Berlin
BEGIN:STANDARD
DTSTART:20251026T030000Z
TZOFFSETFROM:+0200
TZOFFSETTO:+0100
END:STANDARD
BEGIN:DAYLIGHT
DTSTART:20260329T020000Z
TZOFFSETFROM:+0100
TZOFFSETTO:+0200
END:DAYLIGHT
END:VTIMEZONE
BEGIN:VTIMEZONE
TZID:UTC
BEGIN:STANDARD
DTSTART:20250725T095939Z
TZOFFSETFROM:+0000
TZOFFSETTO:+0000
END:STANDARD
END:VTIMEZONE
BEGIN:VEVENT
UID:296-74
DTSTAMP:20260421T095939Z
SUMMARY:Mitgliederversammlung KV Waldeck-Frankenberg
LOCATION:
ORGANIZER;CN=dieBasisHe:MAILTO:it@diebasis-he.de
DTSTART;TZID=Europe/Berlin;VALUE=DATE:20260215
DTEND;TZID=Europe/Berlin;VALUE=DATE:20260216
X-ALT-DESC;FMTTYPE=TEXT/HTML:Am 15.2.2026 führt der Kreisverband Waldeck-F
 rankenberg der Partei dieBasis eine Versammlung der Mitglieder und Freunde
  durch\, auf der Beschlüsse zur Kommunalwahl beraten werden.
CATEGORIES:Sitzungen
URL;VALUE=URI:https://diebasis-he.de/mc-events/mitgliederversammlung-kv-wal
 deck-frankenberg-2/
METHOD:PUBLISH
END:VEVENT
END:VCALENDAR