BEGIN:VCALENDAR
VERSION:2.0
PRODID:spatie/icalendar-generator
DESCRIPTION:Veranstaltungen von Landesverband Hessen | dieBasis
X-WR-CALDESC:Veranstaltungen von Landesverband Hessen | dieBasis
REFRESH-INTERVAL;VALUE=DURATION:PT1440M
X-PUBLISHED-TTL:PT1440M
BEGIN:VTIMEZONE
TZID:Europe/Berlin
BEGIN:DAYLIGHT
DTSTART:20250330T020000Z
TZOFFSETFROM:+0100
TZOFFSETTO:+0200
END:DAYLIGHT
BEGIN:STANDARD
DTSTART:20251026T030000Z
TZOFFSETFROM:+0200
TZOFFSETTO:+0100
END:STANDARD
BEGIN:DAYLIGHT
DTSTART:20260329T020000Z
TZOFFSETFROM:+0100
TZOFFSETTO:+0200
END:DAYLIGHT
END:VTIMEZONE
BEGIN:VTIMEZONE
TZID:UTC
BEGIN:STANDARD
DTSTART:20250725T125204Z
TZOFFSETFROM:+0000
TZOFFSETTO:+0000
END:STANDARD
END:VTIMEZONE
BEGIN:VEVENT
UID:116-32
DTSTAMP:20260421T125204Z
SUMMARY:4. ordentlicher Landesparteitag
LOCATION:
ORGANIZER;CN=Liberto Maschke:MAILTO:liberto.maschke@posteo.net
DTSTART;TZID=Europe/Berlin;VALUE=DATE:20251018
DTEND;TZID=Europe/Berlin;VALUE=DATE:20251020
X-ALT-DESC;FMTTYPE=TEXT/HTML:Der 4. ordentliche Landesparteitag des Landesv
 erbandes Hessen der Basisdemokratischen Partei Deutschland findet am 18. u
 nd 19.10.2025 statt. Alle Mitglieder sind herzlich eingeladen. Anmeldung 
 über lapa@diebasis-he.de
CATEGORIES:Sitzungen
URL;VALUE=URI:https://diebasis-he.de/mc-events/4-ordentlicher-landesparteit
 ag/
METHOD:PUBLISH
END:VEVENT
END:VCALENDAR